BEGIN:VCALENDAR
VERSION:2.0
PRODID:-//UTSA Arts - ECPv6.15.20//NONSGML v1.0//EN
CALSCALE:GREGORIAN
METHOD:PUBLISH
X-WR-CALNAME:UTSA Arts
X-ORIGINAL-URL:https://arts.utsa.edu
X-WR-CALDESC:Events for UTSA Arts
REFRESH-INTERVAL;VALUE=DURATION:PT1H
X-Robots-Tag:noindex
X-PUBLISHED-TTL:PT1H
BEGIN:VTIMEZONE
TZID:America/Chicago
BEGIN:DAYLIGHT
TZOFFSETFROM:-0600
TZOFFSETTO:-0500
TZNAME:CDT
DTSTART:20250309T080000
END:DAYLIGHT
BEGIN:STANDARD
TZOFFSETFROM:-0500
TZOFFSETTO:-0600
TZNAME:CST
DTSTART:20251102T070000
END:STANDARD
BEGIN:DAYLIGHT
TZOFFSETFROM:-0600
TZOFFSETTO:-0500
TZNAME:CDT
DTSTART:20260308T080000
END:DAYLIGHT
BEGIN:STANDARD
TZOFFSETFROM:-0500
TZOFFSETTO:-0600
TZNAME:CST
DTSTART:20261101T070000
END:STANDARD
BEGIN:DAYLIGHT
TZOFFSETFROM:-0600
TZOFFSETTO:-0500
TZNAME:CDT
DTSTART:20270314T080000
END:DAYLIGHT
BEGIN:STANDARD
TZOFFSETFROM:-0500
TZOFFSETTO:-0600
TZNAME:CST
DTSTART:20271107T070000
END:STANDARD
END:VTIMEZONE
BEGIN:VEVENT
DTSTART;TZID=America/Chicago:20260427T183000
DTEND;TZID=America/Chicago:20260427T203000
DTSTAMP:20260420T195103
CREATED:20260305T194528Z
LAST-MODIFIED:20260420T215907Z
UID:10000225-1777314600-1777321800@arts.utsa.edu
SUMMARY:Let’s Create Until We Are All Free: A Closing Circle for Dialogue and Creative Processing
DESCRIPTION:Let’s Create Until We Are All Free: A Closing Circle for Dialogue and Creative Processing is a student-centered\, student-led gathering that brings together dialogue\, storytelling\, and creative practice. The evening will feature voices of formerly incarcerated students and the creators of Beyond The Block\, alongside artwork from currently incarcerated artists. Through guided creative response\, participants are invited to reflect\, connect\, and express what emerges as we consider what we carry forward together.
URL:https://arts.utsa.edu/event/translation-transformation-processing-and-paths-forward/
LOCATION:Experiential Learning Lab\, ELL (GSR 1.204F)\, UT San Antonio\, Main Campus\, 1 UTSA Circle\, San Antonio\, 78249\, United States
CATEGORIES:Special Events
ATTACH;FMTTYPE=image/png:https://arts.utsa.edu/wp-content/uploads/2026/03/untitled-19.png
END:VEVENT
END:VCALENDAR