BEGIN:VCALENDAR
VERSION:2.0
PRODID:-//UTSA Arts - ECPv6.15.20//NONSGML v1.0//EN
CALSCALE:GREGORIAN
METHOD:PUBLISH
X-WR-CALNAME:UTSA Arts
X-ORIGINAL-URL:https://arts.utsa.edu
X-WR-CALDESC:Events for UTSA Arts
REFRESH-INTERVAL;VALUE=DURATION:PT1H
X-Robots-Tag:noindex
X-PUBLISHED-TTL:PT1H
BEGIN:VTIMEZONE
TZID:America/Chicago
BEGIN:DAYLIGHT
TZOFFSETFROM:-0600
TZOFFSETTO:-0500
TZNAME:CDT
DTSTART:20250309T080000
END:DAYLIGHT
BEGIN:STANDARD
TZOFFSETFROM:-0500
TZOFFSETTO:-0600
TZNAME:CST
DTSTART:20251102T070000
END:STANDARD
BEGIN:DAYLIGHT
TZOFFSETFROM:-0600
TZOFFSETTO:-0500
TZNAME:CDT
DTSTART:20260308T080000
END:DAYLIGHT
BEGIN:STANDARD
TZOFFSETFROM:-0500
TZOFFSETTO:-0600
TZNAME:CST
DTSTART:20261101T070000
END:STANDARD
BEGIN:DAYLIGHT
TZOFFSETFROM:-0600
TZOFFSETTO:-0500
TZNAME:CDT
DTSTART:20270314T080000
END:DAYLIGHT
BEGIN:STANDARD
TZOFFSETFROM:-0500
TZOFFSETTO:-0600
TZNAME:CST
DTSTART:20271107T070000
END:STANDARD
END:VTIMEZONE
BEGIN:VEVENT
DTSTART;TZID=America/Chicago:20260415T190000
DTEND;TZID=America/Chicago:20260415T210000
DTSTAMP:20260419T124104
CREATED:20260319T164018Z
LAST-MODIFIED:20260319T164025Z
UID:10000229-1776279600-1776286800@arts.utsa.edu
SUMMARY:Sonidos de San Antonio
DESCRIPTION:The University of Texas at San Antonio College of Liberal and Fine Arts proudly celebrates the cultural heartbeat of our city. \nSonidos de San Antonio marks a historic evening honoring the legacy and future of South Texas music through Sonido Tejano and Mariachi\, performed by iconic artists alongside the newly formed UTSA student ensembles under the direction of Tejano legend Shelly Lares. \nThis special night not only celebrates our musical heritage\, but also supports the next generation of artists through student scholarships and educational opportunities within UTSA’s music programs. \nMusic. Heritage. Community. \nJoin us as UTSA continues to uplift the creative spirit of San Antonio and invest in the future of its musicians. \n📍 Majestic Empire Theatre\n📅 April 15\, 2026 \n🎟️ Purchase tickets and be part of this historic celebration. \nPresented by UTSA • Shellshock Records • JMT Studios
URL:https://arts.utsa.edu/event/sonidos-de-san-antonio/
CATEGORIES:Special Events
ATTACH;FMTTYPE=image/png:https://arts.utsa.edu/wp-content/uploads/2026/03/sonidos-final-flyer-2026-720-x-405-px.png
END:VEVENT
BEGIN:VEVENT
DTSTART;TZID=America/Chicago:20260411T090000
DTEND;TZID=America/Chicago:20260411T170000
DTSTAMP:20260419T124104
CREATED:20260212T185047Z
LAST-MODIFIED:20260212T185131Z
UID:10000215-1775898000-1775926800@arts.utsa.edu
SUMMARY:San Antonio Book Festival
DESCRIPTION:
URL:https://arts.utsa.edu/event/san-antonio-book-festival/
LOCATION:UT San Antonio Southwest Campus\, 300 Augusta\, San Antonio\, TX\, 78205\, United States
CATEGORIES:Special Events
ATTACH;FMTTYPE=image/png:https://arts.utsa.edu/wp-content/uploads/2026/02/screenshot-2026-02-12-at-12-48-36-pm-e1770922220344.png
END:VEVENT
BEGIN:VEVENT
DTSTART;TZID=America/Chicago:20260410T100000
DTEND;TZID=America/Chicago:20260410T140000
DTSTAMP:20260419T124104
CREATED:20260223T221509Z
LAST-MODIFIED:20260402T194538Z
UID:10000217-1775815200-1775829600@arts.utsa.edu
SUMMARY:Arts & Health Workshop
DESCRIPTION:Join us on April 10 from 10:00 AM to 2:00 PM at the Esperanza Peace and Justice Center for a special Public Health Week gathering exploring the intersections of art\, healing\, and justice. The event features a screening of The Quilters\, hands-on participatory fiber arts activities\, and a community dialogue on transformative and restorative justice frameworks. Together\, we will reflect on the impacts of arts in incarceration and imagine more compassionate\, health-centered approaches to justice. \nFeatured Artists & Speakers:  \nDeb Harris (Fiber Thoughts) \nTrish Ashton (San Antonio Handweavers Guild) \nRasa Silenas (San Antonio Handweavers Guild) \nRhonda BeLue (UT San Antonio Public Health) \nJelena Todić (UT San Antonio Social Work) \nRobert Rico (Director of Restorative Practice\, UT San Antonio) \n  \nParking for the Esperanza Peace and Justice Center (922 San Pedro Ave) includes Garage 3 and Lot 28 at SAC\, and there is also street parking on Maverick. There is also a designated area for physically disabled individuals in the Planned Parenthood lot next to the Esperanza.  \n  \n:
URL:https://arts.utsa.edu/event/arts-health-workshop/
LOCATION:Esperanza Peace & Justice Center\, 922 San Pedro Ave\, San Antonio\, TX\, 78212\, United States
CATEGORIES:Special Events
ATTACH;FMTTYPE=image/jpeg:https://arts.utsa.edu/wp-content/uploads/2026/02/aaaabwpzro4bjlxvour6tlsvzvyaknrwjgg-5kwb77utywyvdelnbwstg3tbiojipcz-xhujnwxzmhpxf4oze-qutsu-737pcwuqtqh0.jpg
END:VEVENT
BEGIN:VEVENT
DTSTART;VALUE=DATE:20260324
DTEND;VALUE=DATE:20260329
DTSTAMP:20260419T124104
CREATED:20260211T172315Z
LAST-MODIFIED:20260211T172653Z
UID:10000208-1774310400-1774742399@arts.utsa.edu
SUMMARY:Artists Thrive Summit
DESCRIPTION:
URL:https://arts.utsa.edu/event/artists-thrive-summit/
LOCATION:UT San Antonio Southwest Campus\, 300 Augusta\, San Antonio\, TX\, 78205\, United States
CATEGORIES:Special Events
ATTACH;FMTTYPE=image/jpeg:https://arts.utsa.edu/wp-content/uploads/2026/02/screenshot-2026-02-11-at-10-10-22-am-copy-e1770830798395.jpg
END:VEVENT
BEGIN:VEVENT
DTSTART;TZID=America/Chicago:20260323T180000
DTEND;TZID=America/Chicago:20260323T200000
DTSTAMP:20260419T124104
CREATED:20260224T215948Z
LAST-MODIFIED:20260318T153236Z
UID:10000220-1774288800-1774296000@arts.utsa.edu
SUMMARY:Thorns and Living Systems Catalog Launch in partnership with Pharm Table
DESCRIPTION:Curated by Dr. Scott A. Sherer and Lizzy Hayman \nThis exhibition brings together works from the individual creative careers of Jayne Lawrence and Leigh Anne Lester and a variety of materials that reference their collaborative endeavors in cactusBRA and cactusBARN\, the influential galleries they founded in San Antonio. While pursuing unique themes and perspectives\, Lawrence and Lester bring critical attention to the possibilities of imagination to transform expectations that structure standard knowledge systems. Lester’s works often have a foundation in considerations of the natural world whereas Lawrence’s works often develop in consideration of challenges to narratives that influence subjectivity and social engagement. The exhibition features mixed-media two- and three-dimensional works and installation. \nLed by acclaimed chef\, Elizabeth Johnson\, Pharm Table is a mecca for healthful farm to table cuisine. The restaurant focuses on fresh farm produce and meats carefully sourced from regenerative farmers. Their niche is locally sourced ingredients\, and globally inspired flavors that promote an overall better quality of life. They believe in the medicinal power of food and botanicals. Their recipes are driven by our use of spices and herbs\, reflecting the season’s bounty.
URL:https://arts.utsa.edu/event/thorns-and-living-systems-catalog-launch-in-partnership-with-pharmtable/
LOCATION:Russell Hill Rogers Galleries\, UT San Antonio Southwest Campus\, 300 Augusta\, San Antonio\, TX\, 78205\, United States
CATEGORIES:Special Events
ATTACH;FMTTYPE=image/jpeg:https://arts.utsa.edu/wp-content/uploads/2026/02/catalog-launch-party-2-1.jpg
ORGANIZER;CN="UTSA Arts":MAILTO:art.events@utsa.edu
END:VEVENT
BEGIN:VEVENT
DTSTART;TZID=America/Chicago:20260323T100000
DTEND;TZID=America/Chicago:20260323T150000
DTSTAMP:20260419T124104
CREATED:20260223T223508Z
LAST-MODIFIED:20260318T151636Z
UID:10000218-1774260000-1774278000@arts.utsa.edu
SUMMARY:Inside/Outside: Considerations for Teaching Artists
DESCRIPTION:This workshop equips teaching artists to engage thoughtfully and responsibly in carceral settings by grounding their practice in critical ethical frameworks\, trauma-informed and healing-centered methodologies\, and deeply relational approaches to arts-making. Moving beyond technical instruction\, the workshop invites participants to examine power\, consent\, agency\, and accountability in environments shaped by surveillance\, coercion\, and structural violence. Through dialogue\, case studies\, and embodied exercises\, artists will reflect on their positionality and develop practices that prioritize dignity\, care\, and mutual transformation. Participants will also receive practical tools for navigating the institutional realities of carceral spaces\, including understanding security protocols\, establishing collaborative relationships with correctional staff and community partners\, designing adaptable curricula\, and planning for long-term sustainability. Attention will be given to maintaining ethical boundaries\, responding to trauma in ways that avoid re-harm\, and cultivating creative processes that honor participants’ lived experiences without instrumentalizing them. Centering radical imagination as a form of resistance and possibility\, the workshop positions arts engagement not as charity\, but as a site of solidarity\, critical inquiry\, and collective meaning-making. Teaching artists will leave with concrete strategies\, reflective frameworks\, and a renewed commitment to fostering artistic spaces that affirm humanity within and beyond carceral institutions. \n\n\n\n\nDr. André de Quadros is a professor of music at Boston University whose work is centrally engaged with incarceration\, prison education\, and the global carceral state. With affiliations spanning African\, African American & Black Diaspora\, American\, Asian\, Jewish\, and Muslim Studies\, as well as Forced Migration\, his scholarship and artistic practice examine the intersections of race\, mass incarceration\, state violence\, and human rights. As an artist\, scholar\, poet\, and activist\, he has led sustained music initiatives in prisons and detention centers across multiple countries\, working alongside incarcerated people\, individuals in psychosocial rehabilitation\, refugees\, and survivors of torture and sexual violence. His carceral work foregrounds music-making as a site of dignity\, resistance\, and collective transformation\, challenging punitive logics and advancing abolitionist imaginaries. He directs choirs and choral projects in Indonesia\, Sri Lanka\, the United States\, Israel and the Arab world\, and along the Mexico–US border\, often in contexts shaped by confinement and displacement. He is the author or editor of eight books and numerous scholarly publications and choral editions. In 2019\, he was a Distinguished Academic Visitor at the University of Cambridge\, and he has received many honors\, including an honorary doctorate from the University of Melbourne.
URL:https://arts.utsa.edu/event/inside-outside-considerations-for-teaching-artists/
LOCATION:The Josephine Theatre\, 339 W Josephine\, San Antonio\, TX\, 78212\, United States
CATEGORIES:Special Events
ATTACH;FMTTYPE=image/jpeg:https://arts.utsa.edu/wp-content/uploads/2026/02/untitled-7.jpeg
END:VEVENT
BEGIN:VEVENT
DTSTART;TZID=America/Chicago:20260312T183000
DTEND;TZID=America/Chicago:20260312T200000
DTSTAMP:20260419T124104
CREATED:20260302T143621Z
LAST-MODIFIED:20260303T050331Z
UID:10000223-1773340200-1773345600@arts.utsa.edu
SUMMARY:Open Letters with Mark Menjívar
DESCRIPTION:
URL:https://arts.utsa.edu/event/open-letters-with-mark-menjivar-2/
LOCATION:Contemporary at Blue Star\, 116 Blue Star\, San Antonio\, TX\, 78204\, United States
CATEGORIES:Special Events
ATTACH;FMTTYPE=image/jpeg:https://arts.utsa.edu/wp-content/uploads/2026/03/open-letters-with-mark-e1772461850304.jpg
END:VEVENT
BEGIN:VEVENT
DTSTART;TZID=America/Chicago:20260304T183000
DTEND;TZID=America/Chicago:20260304T203000
DTSTAMP:20260419T124104
CREATED:20260223T215718Z
LAST-MODIFIED:20260223T231913Z
UID:10000216-1772649000-1772656200@arts.utsa.edu
SUMMARY:Voices in Action: Arts\, Dialogue & Community Writing
DESCRIPTION:Voices in Action: Arts\, Dialogue & Community Writing is a participatory gathering that invites community members into shared reflection\, conversation\, and creative expression. The evening will include artistic offerings\, facilitated dialogue\, and opportunities for writing as tools for connection and collective exploration. Centered on storytelling and lived experience\, the event opens space to consider the impacts of incarceration and how art can support empathy\, awareness\, and community care. This event is intended for adults (18+)\, with multiple ways to engage at one’s own comfort level through listening\, reflecting\, and responding. \nGuest Moderator: Andrea “Vocab” Sanderson
URL:https://arts.utsa.edu/event/voices-in-action-arts-dialogue-community-writing/
LOCATION:Little Carver Civic Center at the Carver Community Cultural Center\, 226 N Hackberry St\, San Antonio\, TX\, 78202\, United States
CATEGORIES:Special Events
ATTACH;FMTTYPE=image/png:https://arts.utsa.edu/wp-content/uploads/2026/02/untitled-3-1.png
END:VEVENT
END:VCALENDAR